Workbook

Sheet Budget Instructions
A1: TCDD Grant Application Budget Instructions The standard grant budget period is one year. Funds awarded for a project may be used only as described in the approved budget workplan and within the budget period as awarded. Any changes to the approved budget must have prior approval from TCDD. Below are instructions for completing the required budget for the TCDD grant application and continuation of applications for each section of the budget. Budget information will be submitted in the Excel Workbook linked to the application. All of the following financial information should be reviewed for completing the budget. Applications that do not have complete information will not be considered. **Remember, the budget should be completed for one year only COST ALLOCATION A cost allocation plan is a formal written document that defines the methods to be used by an organization to allocate costs that benefit more than one agency activity or program. Note: If any of the costs included in your budget will benefit more than one agency activity or program, you must submit your agency's Cost Allocation Plan. The plan should identify those types of costs that will be allocated, the bases (formulas) to be used to calculate the costs, and, if predetermined, the resulting percentages to be applied to the costs. In most cases, common bases should be used for allocations. Some examples for typical cost items are: • Office space use and related costs (heat, electricity, janitorial services, etc.) - square footage of space occupied • Printing and reproduction - direct hours, print jobs, pages printed, etc. • Local telephone - number of telephone devices Supporting documentation must be maintained for the purposes of an audit or monitoring review. The plan must be logical, systematic, and revised and updated annually or when circumstances change relating to the plan, resulting in changes to the distribution patterns. All costs included in the plan must be supported by formal accounting records to substantiate that they are allowable, reasonable, and accurate. Your Cost Allocation Plan is essential and needs to support your grant funding request and assist you in maintaining an accurate and realistic budget. Your plan must be well documented and supported with recent financial data. At a minimum, requirements for a Cost Allocation Plan should: • Be documented in writing. • Be supported by official accounting records. • Be approved by an authorized agency official. • Include procedures for reconciliation and adjustments. • Be regularly updated and validated. Disclaimer: The information contained within this document is provided for informational purposes only and is not intended to substitute for obtaining accounting, tax, or financial advice from a professional accountant
A3: BUDGET SUMMARY The budget summary will reflect the line-item totals from the budget completed for this grant application. BUDGET DETAIL In each category of the Budget Detail Section, list costs by general type or purpose. All project costs must be in line with competitive market rates in your area. Indicate how much match will be provided and note the source of all match. Grantees are required to comply with the Code of Federal Regulations, 2 CFR 200 - Uniform Administrative Requirements, Cost Principles, and Audit Requirements for HHS Awards Subpart E - Cost Principles. Rounding to Whole Numbers (when monetary calculations result in dollars and cents If the first number after the decimal point is less than 5, round the calculation down to the next whole number. If the first number after the decimal point is 5 or greater, round the calculation up to the next whole number.
A4: Budget Justification/Methodology This section supports the figures entered in the Budget Detail. The agency is required to explain why each item listed in the budget detail is necessary and how it is related to the project's goal, objective, and activity. The agency is also required to explain whether the amount allocated for each line item is reasonable and necessary in relation to the goal, objective, and activity for the project. The agency must provide this information for all TCDD, and all match funds reported in the budget detail. Definitions of terminology as related to the TCDD budget justification: • Justification: a specific, acceptable reason why the agency feels that the requested salary(ies), operating costs, etc. are required to carry out the activities for the TCDD project. • Methodology: the specific calculations that the agency used to determine the amount of funds entered in the budget detail. • Match: share of costs the grantee and/or partners must contribute to accomplish the purpose of the grant. Cash match includes funds contributed by the grantee and/or partner organizations, or donations from third parties. In-kind match includes the value of personnel, volunteer time, goods, services, direct costs, and indirect costs. All match, both cash and in-kind, can only come from non-federal sources (also referred to as “cost share”). All line items require justification, detailed methodology, and calculations for funds requested from TCDD and match funds. For example, if the agency is purchasing brochures, the specific methodology (based on the definition above) is required and the justification for the reason the brochures are required. Example: 30 brochures x .15 (cost of each brochure) = $4.50 total amount. Justification - brochures are required to promote the project to 30 different organizations based on objective B in the workplan
A5: PERSONNEL COSTS Salaries and Wages
A6: Any staff working on the TCDD project can be paid with TCDD funds, match funds, or a combination of TCDD and match funds. The Personnel section should show each position for project staff by job title and include salaries for all staff, both salaried and hourly, that will be working on the TCDD project. List all persons/positions to be paid with project funds and briefly describe their role in the project, including in-kind costs for those positions whose work is tied to the grant project. Salaries should be budgeted in the units in which they are paid. For example, if an agency pays its employees in monthly rates, then the unit of measure in the budget should be the month and that rate per month should be used for the employee. Provide the methodology for each staff person based on the amount of time they will work on the project. Indicate the percent of time and effort and the dollar equivalent of the contributed effort. If there is an increase in the salary for any of the staff on the TCDD project, please provide the methodology for the expected changes and the date on which the change(s) will take effect.
A7: Cost Allocation: The allocation of salaries and wages is required for staff members that support more than one program within the agency. Hours worked on the TCDD project divided by the total hours worked in the agency provides the appropriate allocation percentage. Provide the amount that will be paid by TCDD and the amount that will be reported as match in the Budget Detail. Salaried Employees List the Name/Position Title of all salaried staff. The Annual Salary should be the current pay for each staff. The total number of months on the project is the number of months during the specific budget period in which the employee will be working to the project. The percent of time on the project is the percentage of time each of the salaried staff will spend on the project. For example, a full-time position will be shown as 100%, and a half-time position will be listed as 50% of what the total annual salary would be for this position by a person working full time in the position for a full year. Description, Justification and Methodology should include a brief description and justification for the staff’s duties for the grant. The calculation methodology for the TCDD Funds and Match Funds need to be included. Hourly Employees For individuals that will be paid hourly to perform specific job duties for the project, the number of hours should reflect the total number of hours the individual will perform on the TCDD project for the specific budget period. The agency is required to provide a rate of pay commensurate with job duties for like jobs in the specific area in which the project will be held.
A8: Fringe Benefits
A9: Fringe benefits are allowances and services provided by employers to their employees as compensation in addition to regular salaries and wages. Fringe benefits include, but are not limited to, FICA, Medicare, the costs of leave (vacation, sick or military), employee insurance, retirement, and unemployment benefit plans. Benefits should be calculated based on the standard employment benefits offered by the agency where they will work and should follow the minimum requirements mandated by law.
A10: In the Description, Justification, Methodology column, describe how fringe benefit costs are calculated for the specific positions for which benefits will be paid, based on the types of positions for which funding is requested. If only a portion of the salary is used, please provide calculations for the amount of TCDD or match funds that will be used for the fringe benefits. If there will be any changes in fringe benefits during the budget period, please provide the methodology for the expected changes and date(s) on which the changes will take effect.
A11: Cost Allocation: Fringe benefits should only be included for salaried and hourly staff working on the project. Applicable fringe benefits should be allocated on the same basis as salaries and wages (i.e., same percentages). For example, if the project will cover 50% of the staff members’ salary, then the project could also cover 50% of the staff member's fringe benefits.
A12: Travel
A13: List the name of the Project Staff who will travel. Provide a description of how, when and where project staff will travel, In the Description, Justification and Methodology column, provide which objective/activity(ies) in the workplan the travel is based on. Include itemize costs such as airfare, lodging, meals, mileage, car rental, etc.) The travel section needs to provide a breakdown of travel costs including: • Purpose of trip • Name/position of traveler • To the extent possible, itemize per person travel costs: airfare, lodging-number of nights and cost per night, meals-number of days and applicable state per diem for location, car rental, parking, mileage, registration fees, etc. • Number of trips • Total costs
... A15: All out-of-state travel requires TCDD's prior approval.
B16: Cost Allocation: Travel related expenses should include costs for mileage, transportation, per diem, lodging, meals, conference registration fees, etc. Travel costs should be included for all staff that will be traveling to conduct project activities. Only reasonable and necessary travel expenses are allowable. Current State of Texas travel rates apply to mileage, lodging, per diem, etc. for all travel by the grantee staff and consultants/contractors. In the case of air travel, the lowest reasonable commercial airfares must be used. For detailed information on state travel regulations, see: https://fmx.cpa.texas.gov/fmx/travel/textravel/meallodg/meals/reimburse.php
A17: EQUIPMENT
A18: Equipment is defined as an article of tangible nonexpendable personal property that has a useful life of more than 1 year and an acquisition cost of $10,000 or more per unit. If your agency has an established capitalization threshold that is less than $10,000, then your agency's capitalization threshold must be used to determine if an item is to be budgeted as Equipment.
A19: Note: A capitalization threshold is the dollar amount that determines the proper reporting of an asset in your financial and accounting records.
A20: All costs for equipment must be determined through formal price quotes and the applicant must be ready to provide these quotes to TCDD upon request.
A21: Describe the benefit to the project or the specific need for equipment proposed. Requests for equipment should include the following information: • Description • Quantity • Unit cost (including all components) • Justification for the use of each item related to specific program objectives: o how the equipment will enable project personnel to fulfill the scientific objectives of the project, and o whether or not the use of such equipment will be solely dedicated to the project. Note: In the Equipment section of the Budget Detail, enter the capitalization threshold established by your agency for financial statement purposes in the field provided. All equipment purchased with TCDD funds becomes the property of TCDD.
B22: Cost Allocation: Confirm whether equipment is solely dedicated to the project. If equipment is shared with other projects, budget an amount that corresponds to expected project use and verify the rationale. Split funding of equipment should only generally occur with large equipment purchases.
A23: SUPPLIES
A24: Supplies include consumable items that are essential to the project, including but not limited to general office supplies (e.g., paper, pencils, pens, ink, toner cartridges), medical supplies, subscriptions, and directories. The purchase of any supplies must be directly related to the goal, objective, and activity(ies) of the TCDD project. Provide the following information: • Items - list supplies by type (e.g., office supplies, postage, laptop computers) • Describe the type of supplies to be purchased and how they relate to meeting the project objectives. • Calculation - describe the basis for the cost, specifically the unit cost of each item, number needed and total amount
B25: Cost Allocation: Supplies that are purchased only for project use do not require allocation. For supplies that are to be shared for use in other agency or program activities, the allocation of supply costs can be based on the percentage of salaries for project FTEs that access and use the supplies. Controlled assets, such as computers, are generally purchased specifically for project use. In that case, there would be no requirement for allocating the costs of controlled assets. If controlled assets are to be shared, then cost allocation is required. Unless the unit cost of a controlled asset meets the agency's capitalization threshold, these items must be budgeted as supplies.
A26: SUBCONTRACTUAL OR SUBAWARDS
A27: Subcontract services include services that are essential to the project but are obtained from individuals who are not employees of your agency. These services must be specifically related to the work of the project. Examples of subcontract services typically include, but are not limited to, consultants and contractors. If subcontract services are requested, provide the following information: • Name of consultant/position title or service provider (if known) • Organizational affiliation (if applicable) • Number of days of hours of service • Expected rate of compensation (per hour/day) • Other - travel, per diem, supplies, other related expenses • Provide a description of the services to be provided and justification
A28: Subcontract agreements must be executed and approved by TCDD prior to any services being rendered. A copy of the signed/executed agreement must be submitted to TCDD before the contracted party begins with any services.
A29: The applicant should list the proposed contract activities along with a brief description of the scope of work or services to be provided, proposed duration, and proposed procurement method (competitive or non-competitive), if known. Grant applicants must comply with applicable procurement requirements under 2 CFR 200.318 through 200.327. Applicants should consult these requirements to ensure that they are complying with all rules regarding competition, Dis-advantaged Business outreach, methods of procurement, etc.
A30: OTHER COSTS
A31: These include other costs associated with the implementation of the grant project that are not included in any other cost category specified above. Individually list each item requested and provide appropriate justification related to the program objectives. Below are descriptions of some of the more commonly budgeted Other Costs. The included items below do not represent an all- inclusive list.
A32: Building Costs
A33: Building costs can be in the form of rent, depreciation or building use allowance. The amount must be based on the space that will be allocated to implement the TCDD project, not the costs of the entire rental space if it is used for shared purposes. Rental costs are not allowable for property owned by the agency or if the agency has a financial interest in the property. In this case, only the costs of ownership, including maintenance costs, insurance, depreciation, utilities, etc., are allowable costs. The agency must indicate in the budget narrative whether or not it owns the space that will be rented.
A34: Cost Allocation: Regardless of the method used to charge for the use of space, the preferred allocation method is space usage based on square footage of the building. Example: Total monthly rent= $3,000 • Total building square footage= 10,000 sq, ft. • Total occupancy for TCDD project= 2,500 sq. ft. • 2,500 sq/ ft.+ 10,000 sq/ ft. = 25% Therefore, the TCDD project share of the monthly rental expense is $3,000 x 25% or $750.
A35: Utilities
A36: Utilities may include, but are not limited to, electricity, water, heat, wastewater, and waste removal. For utilities costs budgeted, include the calculation and an adequate justification of how each cost was estimated.
A37: Cost Allocation: The costs for utilities which benefit all occupants in a building can be allocated on the basis of square footage (note example under Building Costs).
... A39: The most common shared office equipment includes copiers, fax machines, and postage equipment. Costs should be in direct correlation to the use of the equipment for the project (e.g., if a particular machine is used 50% of the time for the project, the project should only be charged 50% of the service/maintenance costs). When there is a need to rent equipment for use on the project, provide information on the type of equipment to be rented, the purpose or use on the project, the length of time needed, and the rental rate. Describe the need and include an adequate justification of how each cost was estimated.
B40: Cost Allocation: Costs for shared equipment may be allocated to the various agency activities or program budgets based on use. The allocation of costs for this leased equipment can be based on copy logs or through the use of meters or tracking devices that assign codes to programs and staff and track usage. Another basis that may be used to allocate these costs is the FTE count.
A41: Printing and Copying Services
A42: These are costs associated with printing and reproduction of project materials. Describe the need and include an adequate justification of how each cost was estimated.
B43: Cost Allocation: These costs should be allocated by maintaining copy logs or through tracking devices that require the use of codes. These costs can also be allocated based on the FTE count.
...

Sheet Budget Summary
A1: Please calculate your proposed budget for the next 12 months of your project on the subsequent tabs. (This tab collects all of the calculations from the other tabs and cannot be edited)
A2: Category | B2: TCDD Funds | C2: Match Funds | D2: Total Funds
A3: Salary and Wages (Personnel) | B3: ='Salary and Wages (Personnel)'!B29 -> 0 | C3: ='Salary and Wages (Personnel)'!B30 -> 0 | D3: =B3+C3 -> 0
A4: Fringe Benefits (Personnel) | B4: ='Fringe Benefits (Personnel)'!B12 -> 0 | C4: ='Fringe Benefits (Personnel)'!C12 -> 0 | D4: =B4+C4 -> 0
A5: Travel (Personnel) | B5: ='Travel (Personnel)'!C20 -> 0 | C5: ='Travel (Personnel)'!D20 -> 0 | D5: =B5+C5 -> 0
A6: Equipment | B6: =Equipment!B15 -> 0 | C6: =Equipment!C15 -> 0 | D6: =B6+C6 -> 0
A7: Supplies | B7: =Supplies!B12 -> 0 | C7: =Supplies!C12 -> 0 | D7: =B7+C7 -> 0
A8: Contractual | B8: =Subcontract!H14 -> 0 | C8: =Subcontract!I14 -> 0 | D8: =B8+C8 -> 0
A9: Other Costs | B9: ='Other Costs'!B15 -> 0 | C9: ='Other Costs'!C15 -> 0 | D9: =B9+C9 -> 0
A10: Indirect Costs | B10: ='Indirect Costs'!B9 -> 0 | C10: ='Indirect Costs'!C9 -> 0 | D10: =B10+C10 -> 0
A11: Total | B11: =SUM(B3:B10) -> 0 | C11: =SUM(C3:C10) -> 0 | D11: =SUM(D3:D10) -> 0

Sheet Salary and Wages (Personnel)
A1: Salary and Wages Schedules (Personnel)
A2: Any staff working on the TCDD project can be paid with TCDD funds, match funds, or a combination of TCDD and match funds. Please provide detail below for salaried and/or hourly staff. This does not include contractual services.
A3: Link to Salary & Wages instructions
A6: Salaried Staff | B6: Name/Position Title | C6: Annual Salary | D6: # Months | E6: % Time | F6: TCDD funds | G6: Match funds | H6: Total Funds | I6: Description, Justification and Methodology
I7: Provide brief description and justification of staff duties for project. Provide the details for the calcuation methodolgy
I8: Provide brief description and justification of staff duties for project. Provide the details for the calcuation methodolgy
I9: Provide brief description and justification of staff duties for project. Provide the details for the calcuation methodolgy
I10: Provide brief description and justification of staff duties for project. Provide the details for the calcuation methodolgy
H13: =F13+G13 -> 0
H14: =F14+G14 -> 0
A15: Total | F15: =SUM(F7:F14) -> 0 | G15: =SUM(G7:G14) -> 0 | H15: =SUM(H7:H14) -> 0
A18: Hourly Staff (*Does not include Contractual Services | B18: Name/Position Title | C18: Hourly Rate | D18: # Hours on Project | E18: TCDD Funds | F18: Match Funds | G18: Total Funds | H18: Description, Justification and Methodology
I19: Provide brief description and justification of staff duties for project. Provide the details for the calcuation methodolgy
A24: Total | E24: =SUM(E19:E23) -> 0 | F24: =SUM(F19:F23) -> 0 | G24: =SUM(G19:G23) -> 0
A28: Total Salaries and Hourly Wages | B28: =SUM(G24+H15) -> 0
A29: TCDD Funds | B29: =E24+F15 -> 0
A30: Match funds | B30: =F24+G15 -> 0

Sheet Fringe Benefits (Personnel)
A1: Fringe Benefits for Salary and Hourly Staff (Personnel)
A2: Link to Fringe Benefits Instructions
B3: TCDD Funds | C3: Match Funds | D3: Total Funds | E3: Description, Justification, Methodology
A10: Other Fringe (describe) | D10: =B10+C10 -> 0
A11: Other Fringe (describe) | D11: =B11+C11 -> 0
A12: Total | B12: =SUM(B4:B11) -> 0 | C12: =SUM(C4:C11) -> 0 | D12: =SUM(D4:D11) -> 0

Sheet Travel (Personnel)
A1: Travel - Salary and Hourly Staff
A2: State how, when and where project staff will travel and which objective/activity(ies) in the work plan the travel is based on. *All out of state travel must be approved by TCDD. Funds requested in the travel category should be only for project staff. Travel for consultants and contractors should be shown in the Contractual cost category (F) along with consultant/contractor fees.
A3: Link to Travel Instructions
A5: Please enter your organization's travel reimbursement rates
A6: Personal Vehicle Mileage Reimbursement Rate
A7: Maximum Daily Meal Reimbursement
A8: Maximum Lodging Reimbursement Rate
A10: Project Staff (Salary and Hourly) | B10: Description of Travel | C10: TCDD Funds | D10: Match Funds | E10: Description, Justification, Methodology (itemize costs such as airfare, lodging, meals, mileage, car rental, etc)
C13: 0 | D13: 0
C14: 0 | D14: 0
C15: 0 | D15: 0
C16: 0 | D16: 0
C17: 0 | D17: 0
C18: 0 | D18: 0
C19: 0 | D19: 0
A20: Total | C20: =SUM(C11:C19) -> 0 | D20: =SUM(D11:D19) -> 0

Sheet Equipment
A1: Equipment
A2: Equipment is defined as an article of tangible nonexpendable personal property that has a useful life of more than 1 year and an acquisition cost of $10,000 or more per unit. If your agency has an established capitalization threshold that is less than $10,000, then your agency's capitalization threshold must be used to determine if an item is to be budgeted as Equipment.
A3: Link to Equipment Instructions
B5: Amount
A6: Capitalization Level | B6: 0
B8: TCDD Funds | C8: Match Funds | D8: Total funds | E8: Description, Justification, Methodology
A9: Equipment 1
A10: Equipment 2 | D10: =B10+C10 -> 0
A11: Equipment 3 | D11: =B11+C11 -> 0
A12: Equipment 4 | D12: =B12+C12 -> 0
A13: Equipment 5 | D13: =B13+C13 -> 0
D14: =B14+C14 -> 0
A15: Total | B15: =SUM(B9:B14) -> 0 | C15: =SUM(C9:C14) -> 0 | D15: =SUM(D9:D14) -> 0

Sheet Supplies
A1: Supplies
A2: Supplies include consumable items that are essential to the project, including but not limited to general office supplies (e.g., paper, pencils, pens, ink, toner cartridges), medical supplies, subscriptions, and directories. The purchase of any supplies must be directly related to the goal, objective and activity(ies) of the TCDD project. Laptops or other computers should be listed as supplies if the purchase amount is less than $5000.
A3: Link to Supplies Instructions
B5: TCDD Funds | C5: Match Funds | D5: Total funds | E5: Description, Justification, Methodology
A7: Supplies 2 | B7: 0 | C7: 0 | D7: =B7+C7 -> 0
A8: Supplies 3 | B8: 0 | C8: 0 | D8: =B8+C8 -> 0
A9: Supplies 4 | B9: 0 | C9: 0 | D9: =B9+C9 -> 0
A10: Supplies 5 | B10: 0 | C10: 0 | D10: =B10+C10 -> 0
A11: Supplies 6 | B11: 0 | C11: 0 | D11: =B11+C11 -> 0
A12: Total | B12: =SUM(B6:B11) -> 0 | C12: =SUM(C6:C11) -> 0 | D12: =SUM(D6:D11) -> 0

Sheet Subcontract
A1: Contractual Services Schedule
A2: Please provide detail below on any contracts, consultants, or other service providers who will conduct work on this project.
A3: Link to Contractual Instructions
A5: Salaried Staff | B5: Name of Consultant/Position Title (if known) | C5: Organization Affilliation (if any) | D5: # Days or Hours of Service | E5: Rate of Compensation (per hour/day) | F5: Other (includes travel, per diem, supplies, etc) | G5: Description of Services to be provided and justification | H5: TCDD funds | I5: Match funds | J5: Total Funds
A6: Contractual 1 | J6: =SUM(H6+I6) -> 0
A7: Contractual 2 | J7: =SUM(H7+I7) -> 0
A8: Contractual 3 | J8: =SUM(H8+I8) -> 0
A9: Contractual 4 | J9: =SUM(H9+I9) -> 0
A10: Contractual 5 | J10: =SUM(H10+I10) -> 0
A11: Contractual 6 | J11: =SUM(H11+I11) -> 0
J12: =SUM(H12+I12) -> 0
J13: =SUM(H13+I13) -> 0
A14: Total | H14: =SUM(H6:H13) -> 0 | I14: =SUM(I6:I13) -> 0 | J14: =SUM(J6:J13) -> 0

Sheet Other Costs
A1: Other Costs
A2: These include other costs associated with the implementation of the grant project that are not included in any other cost category specified above. Individually list each item requested and provide appropriate justification related to the program objectives. This is where you would enter costs related to your Project Advisory Committee (PAC).
A3: Link to Other Costs Instructions
B5: TCDD Funds | C5: Match Funds | D5: Total Funds | E5: Description, Justification, Methodology
A12: Other | B12: 0 | C12: 0 | D12: =B12+C12 -> 0
A13: Other | B13: 0 | C13: 0 | D13: =B13+C13 -> 0
A14: Other | B14: 0 | C14: 0 | D14: =B14+C14 -> 0
A15: Total | B15: =SUM(B6:B14) -> 0 | C15: =SUM(C6:C14) -> 0 | D15: =SUM(D6:D14) -> 0

Sheet Indirect Costs
A1: Indirect Costs
A3: Will you be requesting funds for Indirect Costs? | B3: Yes/No
A4: If yes, what is your organizations Indirect Cost Rate
A5: Link to Indirect Costs Instructions
A6: Claiming reimbursement for indirect costs is never required. However, if your agency is budgeting for indirect costs, enter either: 1) your indirect cost rate which has been approved by a cognizant federal agency, or 2) a de minimis indirect cost rate of 15% if you do not have an indirect cost rate that has been approved by a federal cognizant agency. In-kind volunteer and in-kind non-cash contributions should not be included in the direct cost base used to calculate indirect charges.
A7: Indirect costs above 15% may be allowed by TCDD to use as match contributions. If an agency reports the use of an indirect cost rate above 15%, the agency is required to provide a copy of its negotiated indirect cost rate agreement from the federal or state agency that approved the indirect cost rate.
B8: TCDD Funds | C8: Match Funds
A9: What is your total Indirect Cost request? | D9: TCDD: % | E9: Match Funds: %

Sheet Match Calculator
C2: TCDD (Federal) Grants Funds: | D2: 100000
C3: Non-Poverty Counties: | D3: Dollar Value of match required= TCDD (federal) funds / 3 | K3: Poverty Counties: | L3: Dollar Value of match required= TCDD (federal) funds / 9
D4: "3" is the Equivalent to 75% of the grant | L4: "9" is equvalent to 90% of the grant
C5: Number of Non-Poverty Counties: | D5: 209 | G5: For state-wide projects, this number should be 167 counties | K5: Number of Poverty Counties: | L5: 45 | O5: For state-wide projects, this number should be 87 counties
C6: Formula: | D6: =D2 -> 100000 | E6: / | F6: 3 | K6: Formula: | L6: =D2 -> 100000 | M6: / | N6: 9
C7: Match Required: | D7: =D2/F6 -> 33333.333 | K7: Match Required: | L7: =L6/N6 -> 11111.111
C8: Total Project: | D8: =SUM(D6:D7) -> 133333.33 | K8: Total Project: | L8: =SUM(L6:L7) -> 111111.11
A10: Non-Poverty and | C10: [(Dollar value of match required= TCDD (federal) funds / 3) x (# of Non-Poverty Counties)] + [(Dollar value of match required= TCDD (federal) funds / 9) x (# of Poverty Counties)]
A11: Poverty Combined: | C11: Total number of different counties
C13: Total number of different counties: | D13: =SUM(D5,L5) -> 254 | G13: (For state-wide projects, this number should equal 254 counties)
C14: Combined Total Match required: | D14: =((D5/D13)*D7)+((L5/D13)*L7) -> 29396.325
C15: Total Project: | D15: =D2+D14 -> 129396.33

Sheet Poverty Counties in Texas
A1: 2022 Poverty and Median Household Income Estimates - Counties, States, and National Source: U.S. Census Bureau, Small Area Income and Poverty Estimates (SAIPE) Program Release date: December 2023 | E1: Must be over 20.0 to be considered Poverty
A2: Geographic Information
A3: State FIPS Code | B3: County FIPS Code | C3: Postal Code | D3: Name | E3: Poverty Percent, All Ages
A4: 48 | B4: 001 | C4: TX | D4: Anderson County | E4: 19.3
A5: 48 | B5: 003 | C5: TX | D5: Andrews County | E5: 12.2
A6: 48 | B6: 005 | C6: TX | D6: Angelina County | E6: 15.9
A7: 48 | B7: 007 | C7: TX | D7: Aransas County | E7: 17.4
A8: 48 | B8: 009 | C8: TX | D8: Archer County | E8: 9
A9: 48 | B9: 011 | C9: TX | D9: Armstrong County | E9: 10.2
A10: 48 | B10: 013 | C10: TX | D10: Atascosa County | E10: 16.2
A11: 48 | B11: 015 | C11: TX | D11: Austin County | E11: 15
A12: 48 | B12: 017 | C12: TX | D12: Bailey County | E12: 16.3
A13: 48 | B13: 019 | C13: TX | D13: Bandera County | E13: 11.7
A14: 48 | B14: 021 | C14: TX | D14: Bastrop County | E14: 12.3
A15: 48 | B15: 023 | C15: TX | D15: Baylor County | E15: 13.9
... A257: 48 | B257: 507 | C257: TX | D257: Zavala County | E257: 29.1
F259: Non-Poverty | G259: 209
F260: Poverty | G260: 45
